Package: OSAT Version: 1.58.0 Command: rm -rf OSAT.buildbin-libdir && mkdir OSAT.buildbin-libdir && /Users/biocbuild/BBS/utils/build-universal.sh OSAT_1.58.0.tar.gz /Library/Frameworks/R.framework/Resources/bin/R OSAT.buildbin-libdir StartedAt: 2025-10-31 23:17:26 -0400 (Fri, 31 Oct 2025) EndedAt: 2025-10-31 23:17:29 -0400 (Fri, 31 Oct 2025) EllapsedTime: 2.0 seconds RetCode: 0 Status: OK PackageFile: OSAT_1.58.0.tgz PackageFileSize: 649 KiB