Package: OSAT Version: 1.58.0 Command: /Library/Frameworks/R.framework/Resources/bin/R CMD INSTALL OSAT StartedAt: 2025-11-17 16:51:13 -0500 (Mon, 17 Nov 2025) EndedAt: 2025-11-17 16:51:15 -0500 (Mon, 17 Nov 2025) EllapsedTime: 2.2 seconds RetCode: 0 Status: OK