Package: OSAT Version: 1.58.0 Command: /Library/Frameworks/R.framework/Resources/bin/R CMD build --keep-empty-dirs --no-resave-data OSAT StartedAt: 2025-11-17 23:36:00 -0500 (Mon, 17 Nov 2025) EndedAt: 2025-11-17 23:36:13 -0500 (Mon, 17 Nov 2025) EllapsedTime: 13.1 seconds RetCode: 0 Status: OK PackageFile: OSAT_1.58.0.tar.gz PackageFileSize: 959.7 KiB