Package: ORFik Version: 1.29.9 Command: /home/biocbuild/bbs-3.22-bioc/R/bin/R CMD INSTALL ORFik StartedAt: 2025-10-28 15:39:27 -0400 (Tue, 28 Oct 2025) EndedAt: 2025-10-28 15:40:43 -0400 (Tue, 28 Oct 2025) EllapsedTime: 75.4 seconds RetCode: 0 Status: OK