Package: ORFhunteR Version: 1.18.0 Command: /home/biocbuild/bbs-3.22-bioc/R/bin/R CMD INSTALL ORFhunteR StartedAt: 2025-11-09 15:35:14 -0500 (Sun, 09 Nov 2025) EndedAt: 2025-11-09 15:35:57 -0500 (Sun, 09 Nov 2025) EllapsedTime: 43.1 seconds RetCode: 0 Status: OK