Package: ORFhunteR Version: 1.18.0 Command: /home/biocbuild/bbs-3.22-bioc/R/bin/R CMD build --keep-empty-dirs --no-resave-data --md5 ORFhunteR StartedAt: 2025-11-09 19:14:08 -0500 (Sun, 09 Nov 2025) EndedAt: 2025-11-09 19:18:21 -0500 (Sun, 09 Nov 2025) EllapsedTime: 252.4 seconds RetCode: 0 Status: OK PackageFile: ORFhunteR_1.18.0.tar.gz PackageFileSize: 2.109 MiB