Package: OMICsPCA Version: 1.28.0 Command: /home/biocbuild/bbs-3.22-bioc/R/bin/R CMD INSTALL OMICsPCA StartedAt: 2025-11-17 18:10:29 -0500 (Mon, 17 Nov 2025) EndedAt: 2025-11-17 18:11:19 -0500 (Mon, 17 Nov 2025) EllapsedTime: 50.4 seconds RetCode: 0 Status: OK