Package: NormqPCR Version: 1.56.0 Command: /home/biocbuild/bbs-3.22-bioc/R/bin/R CMD INSTALL NormqPCR StartedAt: 2025-10-30 15:12:52 -0400 (Thu, 30 Oct 2025) EndedAt: 2025-10-30 15:13:01 -0400 (Thu, 30 Oct 2025) EllapsedTime: 9.6 seconds RetCode: 0 Status: OK