Package: NetSAM Version: 1.49.0 Command: /home/biocbuild/bbs-3.22-bioc/R/bin/R CMD INSTALL NetSAM StartedAt: 2025-10-27 15:46:06 -0400 (Mon, 27 Oct 2025) EndedAt: 2025-10-27 15:46:30 -0400 (Mon, 27 Oct 2025) EllapsedTime: 23.5 seconds RetCode: 0 Status: OK