Package: NetPathMiner Version: 1.45.0 Command: /home/biocbuild/bbs-3.22-bioc/R/bin/R CMD INSTALL NetPathMiner StartedAt: 2025-10-24 15:16:02 -0400 (Fri, 24 Oct 2025) EndedAt: 2025-10-24 15:16:25 -0400 (Fri, 24 Oct 2025) EllapsedTime: 23.3 seconds RetCode: 0 Status: OK