Package: NetPathMiner Version: 1.46.0 Command: /Library/Frameworks/R.framework/Resources/bin/R CMD INSTALL NetPathMiner StartedAt: 2025-11-10 15:03:14 -0500 (Mon, 10 Nov 2025) EndedAt: 2025-11-10 15:03:23 -0500 (Mon, 10 Nov 2025) EllapsedTime: 9.2 seconds RetCode: 0 Status: OK