Package: NetPathMiner Version: 1.46.0 Command: /Library/Frameworks/R.framework/Resources/bin/R CMD build --keep-empty-dirs --no-resave-data NetPathMiner StartedAt: 2025-11-10 17:13:05 -0500 (Mon, 10 Nov 2025) EndedAt: 2025-11-10 17:13:19 -0500 (Mon, 10 Nov 2025) EllapsedTime: 13.2 seconds RetCode: 0 Status: OK PackageFile: NetPathMiner_1.46.0.tar.gz PackageFileSize: 2.466 MiB