Package: NetPathMiner Version: 1.46.0 Command: rm -rf NetPathMiner.buildbin-libdir && mkdir NetPathMiner.buildbin-libdir && /Users/biocbuild/BBS/utils/build-universal.sh NetPathMiner_1.46.0.tar.gz /Library/Frameworks/R.framework/Resources/bin/R NetPathMiner.buildbin-libdir StartedAt: 2025-11-10 23:29:29 -0500 (Mon, 10 Nov 2025) EndedAt: 2025-11-10 23:29:37 -0500 (Mon, 10 Nov 2025) EllapsedTime: 8.2 seconds RetCode: 0 Status: OK PackageFile: NetPathMiner_1.46.0.tgz PackageFileSize: 2.591 MiB