Package: Nebulosa Version: 1.20.0 Command: /home/biocbuild/bbs-3.22-bioc/R/bin/R CMD INSTALL Nebulosa StartedAt: 2025-11-16 15:20:30 -0500 (Sun, 16 Nov 2025) EndedAt: 2025-11-16 15:21:01 -0500 (Sun, 16 Nov 2025) EllapsedTime: 30.2 seconds RetCode: 0 Status: OK