Package: Nebulosa Version: 1.20.0 Command: /home/biocbuild/bbs-3.22-bioc/R/bin/R CMD build --keep-empty-dirs --no-resave-data --md5 Nebulosa StartedAt: 2025-11-16 19:07:47 -0500 (Sun, 16 Nov 2025) EndedAt: 2025-11-16 19:10:37 -0500 (Sun, 16 Nov 2025) EllapsedTime: 170.2 seconds RetCode: 0 Status: OK PackageFile: Nebulosa_1.20.0.tar.gz PackageFileSize: 3.029 MiB