Package: NanoStringNCTools Version: 1.18.0 Command: /home/biocbuild/R/R/bin/R CMD INSTALL NanoStringNCTools StartedAt: 2025-11-17 21:21:56 -0000 (Mon, 17 Nov 2025) EndedAt: 2025-11-17 21:22:20 -0000 (Mon, 17 Nov 2025) EllapsedTime: 24.3 seconds RetCode: 0 Status: OK