Package: NanoStringNCTools Version: 1.17.2 Command: /home/biocbuild/bbs-3.22-bioc/R/bin/R CMD INSTALL NanoStringNCTools StartedAt: 2025-10-27 15:18:04 -0400 (Mon, 27 Oct 2025) EndedAt: 2025-10-27 15:18:20 -0400 (Mon, 27 Oct 2025) EllapsedTime: 16.5 seconds RetCode: 0 Status: OK