Package: NanoStringNCTools Version: 1.17.2 Command: /Library/Frameworks/R.framework/Resources/bin/R CMD INSTALL NanoStringNCTools StartedAt: 2025-10-27 15:15:53 -0400 (Mon, 27 Oct 2025) EndedAt: 2025-10-27 15:16:21 -0400 (Mon, 27 Oct 2025) EllapsedTime: 27.2 seconds RetCode: 0 Status: OK