Package: NanoStringNCTools Version: 1.17.2 Command: /Library/Frameworks/R.framework/Resources/bin/R CMD build --keep-empty-dirs --no-resave-data NanoStringNCTools StartedAt: 2025-10-27 17:11:15 -0400 (Mon, 27 Oct 2025) EndedAt: 2025-10-27 17:11:28 -0400 (Mon, 27 Oct 2025) EllapsedTime: 13.1 seconds RetCode: 0 Status: OK PackageFile: NanoStringNCTools_1.17.2.tar.gz PackageFileSize: 505.8 KiB