Package: NanoStringDiff Version: 1.39.0 Command: /home/biocbuild/R/R/bin/R CMD build --keep-empty-dirs --no-resave-data NanoStringDiff StartedAt: 2025-10-21 01:39:43 -0000 (Tue, 21 Oct 2025) EndedAt: 2025-10-21 01:40:07 -0000 (Tue, 21 Oct 2025) EllapsedTime: 24.0 seconds RetCode: 0 Status: OK PackageFile: NanoStringDiff_1.39.0.tar.gz PackageFileSize: 407 KiB