Package: NanoStringDiff Version: 1.40.0 Command: /Library/Frameworks/R.framework/Resources/bin/R CMD build --keep-empty-dirs --no-resave-data NanoStringDiff StartedAt: 2025-11-18 00:36:59 -0500 (Tue, 18 Nov 2025) EndedAt: 2025-11-18 00:37:47 -0500 (Tue, 18 Nov 2025) EllapsedTime: 48.2 seconds RetCode: 0 Status: OK PackageFile: NanoStringDiff_1.40.0.tar.gz PackageFileSize: 415.6 KiB