Package: NanoStringDiff Version: 1.40.0 Command: rm -rf NanoStringDiff.buildbin-libdir && mkdir NanoStringDiff.buildbin-libdir && /Users/biocbuild/BBS/utils/build-universal.sh NanoStringDiff_1.40.0.tar.gz /Library/Frameworks/R.framework/Resources/bin/R NanoStringDiff.buildbin-libdir StartedAt: 2025-11-18 18:09:27 -0500 (Tue, 18 Nov 2025) EndedAt: 2025-11-18 18:09:51 -0500 (Tue, 18 Nov 2025) EllapsedTime: 24.2 seconds RetCode: 0 Status: OK PackageFile: NanoStringDiff_1.40.0.tgz PackageFileSize: 470.8 KiB