Package: NanoStringDiff Version: 1.39.0 Command: /Library/Frameworks/R.framework/Resources/bin/R CMD build --keep-empty-dirs --no-resave-data NanoStringDiff StartedAt: 2025-10-24 18:01:34 -0400 (Fri, 24 Oct 2025) EndedAt: 2025-10-24 18:02:00 -0400 (Fri, 24 Oct 2025) EllapsedTime: 26.3 seconds RetCode: 0 Status: OK PackageFile: NanoStringDiff_1.39.0.tar.gz PackageFileSize: 415.4 KiB