Package: NanoStringDiff Version: 1.39.0 Command: rm -rf NanoStringDiff.buildbin-libdir && mkdir NanoStringDiff.buildbin-libdir && /Users/biocbuild/BBS/utils/build-universal.sh NanoStringDiff_1.39.0.tar.gz /Library/Frameworks/R.framework/Resources/bin/R NanoStringDiff.buildbin-libdir StartedAt: 2025-10-25 01:52:49 -0400 (Sat, 25 Oct 2025) EndedAt: 2025-10-25 01:53:05 -0400 (Sat, 25 Oct 2025) EllapsedTime: 16.1 seconds RetCode: 0 Status: OK PackageFile: NanoStringDiff_1.39.0.tgz PackageFileSize: 470.1 KiB