Package: NanoStringDiff Version: 1.39.0 Command: /Library/Frameworks/R.framework/Resources/bin/R CMD INSTALL NanoStringDiff StartedAt: 2025-10-26 15:28:45 -0400 (Sun, 26 Oct 2025) EndedAt: 2025-10-26 15:28:49 -0400 (Sun, 26 Oct 2025) EllapsedTime: 3.2 seconds RetCode: 0 Status: OK