Package: NanoStringDiff Version: 1.39.0 Command: /Library/Frameworks/R.framework/Resources/bin/R CMD build --keep-empty-dirs --no-resave-data NanoStringDiff StartedAt: 2025-10-26 17:21:58 -0400 (Sun, 26 Oct 2025) EndedAt: 2025-10-26 17:22:07 -0400 (Sun, 26 Oct 2025) EllapsedTime: 9.1 seconds RetCode: 0 Status: OK PackageFile: NanoStringDiff_1.39.0.tar.gz PackageFileSize: 416.6 KiB