Package: NanoStringDiff Version: 1.40.0 Command: /Library/Frameworks/R.framework/Resources/bin/R CMD INSTALL NanoStringDiff StartedAt: 2025-11-17 18:31:01 -0500 (Mon, 17 Nov 2025) EndedAt: 2025-11-17 18:31:05 -0500 (Mon, 17 Nov 2025) EllapsedTime: 4.2 seconds RetCode: 0 Status: OK