Package: NanoStringDiff Version: 1.40.0 Command: /Library/Frameworks/R.framework/Resources/bin/R CMD build --keep-empty-dirs --no-resave-data NanoStringDiff StartedAt: 2025-11-17 23:20:10 -0500 (Mon, 17 Nov 2025) EndedAt: 2025-11-17 23:20:21 -0500 (Mon, 17 Nov 2025) EllapsedTime: 11.1 seconds RetCode: 0 Status: OK PackageFile: NanoStringDiff_1.40.0.tar.gz PackageFileSize: 416.3 KiB