Package: NanoMethViz Version: 3.5.6 Command: /home/biocbuild/bbs-3.22-bioc/R/bin/R CMD build --keep-empty-dirs --no-resave-data --md5 NanoMethViz StartedAt: 2025-10-24 19:07:34 -0400 (Fri, 24 Oct 2025) EndedAt: 2025-10-24 19:10:19 -0400 (Fri, 24 Oct 2025) EllapsedTime: 165.1 seconds RetCode: 0 Status: OK PackageFile: NanoMethViz_3.5.6.tar.gz PackageFileSize: 13.56 MiB