Package: NPARC Version: 1.22.0 Command: /home/biocbuild/bbs-3.22-bioc/R/bin/R CMD INSTALL NPARC StartedAt: 2025-11-06 15:08:57 -0500 (Thu, 06 Nov 2025) EndedAt: 2025-11-06 15:09:09 -0500 (Thu, 06 Nov 2025) EllapsedTime: 11.9 seconds RetCode: 0 Status: OK