Package: NOISeq Version: 2.54.0 Command: /home/biocbuild/bbs-3.22-bioc/R/bin/R CMD INSTALL NOISeq StartedAt: 2025-11-17 17:14:00 -0500 (Mon, 17 Nov 2025) EndedAt: 2025-11-17 17:14:10 -0500 (Mon, 17 Nov 2025) EllapsedTime: 10.5 seconds RetCode: 0 Status: OK