Package: NOISeq Version: 2.54.0 Command: /home/biocbuild/bbs-3.22-bioc/R/bin/R CMD build --keep-empty-dirs --no-resave-data --md5 NOISeq StartedAt: 2025-11-17 22:26:46 -0500 (Mon, 17 Nov 2025) EndedAt: 2025-11-17 22:27:42 -0500 (Mon, 17 Nov 2025) EllapsedTime: 56.1 seconds RetCode: 0 Status: OK PackageFile: NOISeq_2.54.0.tar.gz PackageFileSize: 2.06 MiB