Package: NBAMSeq Version: 1.25.0 Command: /home/biocbuild/bbs-3.22-bioc/R/bin/R CMD build --keep-empty-dirs --no-resave-data --md5 NBAMSeq StartedAt: 2025-10-24 19:08:02 -0400 (Fri, 24 Oct 2025) EndedAt: 2025-10-24 19:08:57 -0400 (Fri, 24 Oct 2025) EllapsedTime: 55.0 seconds RetCode: 0 Status: OK PackageFile: NBAMSeq_1.25.0.tar.gz PackageFileSize: 316.3 KiB