Package: MutationalPatterns Version: 3.19.1 Command: /home/biocbuild/R/R/bin/R CMD INSTALL MutationalPatterns StartedAt: 2025-10-23 21:06:06 -0000 (Thu, 23 Oct 2025) EndedAt: 2025-10-23 21:06:31 -0000 (Thu, 23 Oct 2025) EllapsedTime: 25.6 seconds RetCode: 0 Status: OK