Package: MutationalPatterns Version: 3.19.1 Command: /home/biocbuild/R/R/bin/R CMD build --keep-empty-dirs --no-resave-data MutationalPatterns StartedAt: 2025-10-21 01:38:30 -0000 (Tue, 21 Oct 2025) EndedAt: 2025-10-21 01:50:51 -0000 (Tue, 21 Oct 2025) EllapsedTime: 741.3 seconds RetCode: 0 Status: OK PackageFile: MutationalPatterns_3.19.1.tar.gz PackageFileSize: 3.555 MiB