Package: MutationalPatterns Version: 3.19.1 Command: /home/biocbuild/bbs-3.22-bioc/R/bin/R CMD INSTALL MutationalPatterns StartedAt: 2025-10-24 15:53:36 -0400 (Fri, 24 Oct 2025) EndedAt: 2025-10-24 15:53:54 -0400 (Fri, 24 Oct 2025) EllapsedTime: 18.1 seconds RetCode: 0 Status: OK