Package: MutationalPatterns Version: 3.20.0 Command: /home/biocbuild/bbs-3.22-bioc/R/bin/R CMD check --install=check:MutationalPatterns.install-out.txt --library=/home/biocbuild/bbs-3.22-bioc/R/site-library --timings MutationalPatterns_3.20.0.tar.gz StartedAt: 2025-11-07 01:57:51 -0500 (Fri, 07 Nov 2025) EndedAt: 2025-11-07 02:17:30 -0500 (Fri, 07 Nov 2025) EllapsedTime: 1179.2 seconds RetCode: 1 Status: ERROR CheckDir: MutationalPatterns.Rcheck Warnings: NA