Package: MutationalPatterns Version: 3.19.1 Command: /home/biocbuild/bbs-3.22-bioc/R/bin/R CMD build --keep-empty-dirs --no-resave-data --md5 MutationalPatterns StartedAt: 2025-10-24 19:06:28 -0400 (Fri, 24 Oct 2025) EndedAt: 2025-10-24 19:15:46 -0400 (Fri, 24 Oct 2025) EllapsedTime: 558.5 seconds RetCode: 0 Status: OK PackageFile: MutationalPatterns_3.19.1.tar.gz PackageFileSize: 5.695 MiB