Package: MutationalPatterns Version: 3.19.1 Command: /Library/Frameworks/R.framework/Resources/bin/R CMD build --keep-empty-dirs --no-resave-data MutationalPatterns StartedAt: 2025-10-24 18:00:52 -0400 (Fri, 24 Oct 2025) EndedAt: 2025-10-24 18:04:11 -0400 (Fri, 24 Oct 2025) EllapsedTime: 198.6 seconds RetCode: 1 Status: ERROR PackageFile: None PackageFileSize: NA