Package: MutationalPatterns Version: 3.19.1 Command: /Library/Frameworks/R.framework/Resources/bin/R CMD INSTALL MutationalPatterns StartedAt: 2025-10-24 15:24:35 -0400 (Fri, 24 Oct 2025) EndedAt: 2025-10-24 15:24:43 -0400 (Fri, 24 Oct 2025) EllapsedTime: 7.9 seconds RetCode: 0 Status: OK