Package: MultimodalExperiment Version: 1.10.0 Command: /Library/Frameworks/R.framework/Resources/bin/R CMD INSTALL MultimodalExperiment StartedAt: 2025-11-03 15:28:10 -0500 (Mon, 03 Nov 2025) EndedAt: 2025-11-03 15:28:49 -0500 (Mon, 03 Nov 2025) EllapsedTime: 38.4 seconds RetCode: 0 Status: OK