Package: MultimodalExperiment Version: 1.10.0 Command: /Library/Frameworks/R.framework/Resources/bin/R CMD build --keep-empty-dirs --no-resave-data MultimodalExperiment StartedAt: 2025-11-03 17:58:58 -0500 (Mon, 03 Nov 2025) EndedAt: 2025-11-03 17:59:55 -0500 (Mon, 03 Nov 2025) EllapsedTime: 57.3 seconds RetCode: 0 Status: OK PackageFile: MultimodalExperiment_1.10.0.tar.gz PackageFileSize: 2.532 MiB