Package: MultimodalExperiment Version: 1.9.0 Command: /Library/Frameworks/R.framework/Resources/bin/R CMD INSTALL MultimodalExperiment StartedAt: 2025-10-28 15:14:26 -0400 (Tue, 28 Oct 2025) EndedAt: 2025-10-28 15:14:36 -0400 (Tue, 28 Oct 2025) EllapsedTime: 10.4 seconds RetCode: 0 Status: OK