Package: MultiRNAflow Version: 1.7.2 Command: /home/biocbuild/bbs-3.22-bioc/R/bin/R CMD INSTALL MultiRNAflow StartedAt: 2025-10-24 15:32:41 -0400 (Fri, 24 Oct 2025) EndedAt: 2025-10-24 15:33:25 -0400 (Fri, 24 Oct 2025) EllapsedTime: 43.9 seconds RetCode: 0 Status: OK