Package: MultiRNAflow Version: 1.8.0 Command: /Library/Frameworks/R.framework/Resources/bin/R CMD INSTALL MultiRNAflow StartedAt: 2025-11-06 15:14:09 -0500 (Thu, 06 Nov 2025) EndedAt: 2025-11-06 15:14:30 -0500 (Thu, 06 Nov 2025) EllapsedTime: 20.8 seconds RetCode: 0 Status: OK