Package: MultiRNAflow Version: 1.8.0 Command: /Library/Frameworks/R.framework/Resources/bin/R CMD build --keep-empty-dirs --no-resave-data MultiRNAflow StartedAt: 2025-11-06 17:09:50 -0500 (Thu, 06 Nov 2025) EndedAt: 2025-11-06 17:12:02 -0500 (Thu, 06 Nov 2025) EllapsedTime: 131.5 seconds RetCode: 0 Status: OK PackageFile: MultiRNAflow_1.8.0.tar.gz PackageFileSize: 3.134 MiB