Package: MultiRNAflow Version: 1.8.0 Command: rm -rf MultiRNAflow.buildbin-libdir && mkdir MultiRNAflow.buildbin-libdir && /Users/biocbuild/BBS/utils/build-universal.sh MultiRNAflow_1.8.0.tar.gz /Library/Frameworks/R.framework/Resources/bin/R MultiRNAflow.buildbin-libdir StartedAt: 2025-11-06 23:13:54 -0500 (Thu, 06 Nov 2025) EndedAt: 2025-11-06 23:14:32 -0500 (Thu, 06 Nov 2025) EllapsedTime: 37.7 seconds RetCode: 0 Status: OK PackageFile: MultiRNAflow_1.8.0.tgz PackageFileSize: 3.031 MiB