Package: MultiDataSet Version: 1.38.0 Command: /home/biocbuild/bbs-3.22-bioc/R/bin/R CMD check --install=check:MultiDataSet.install-out.txt --library=/home/biocbuild/bbs-3.22-bioc/R/site-library --timings MultiDataSet_1.38.0.tar.gz StartedAt: 2025-11-07 01:55:21 -0500 (Fri, 07 Nov 2025) EndedAt: 2025-11-07 01:58:48 -0500 (Fri, 07 Nov 2025) EllapsedTime: 207.2 seconds RetCode: 0 Status: WARNINGS CheckDir: MultiDataSet.Rcheck Warnings: 1