Package: MultiBaC Version: 1.19.0 Command: /home/biocbuild/bbs-3.22-bioc/R/bin/R CMD build --keep-empty-dirs --no-resave-data --md5 MultiBaC StartedAt: 2025-10-24 19:04:50 -0400 (Fri, 24 Oct 2025) EndedAt: 2025-10-24 19:05:50 -0400 (Fri, 24 Oct 2025) EllapsedTime: 59.1 seconds RetCode: 0 Status: OK PackageFile: MultiBaC_1.19.0.tar.gz PackageFileSize: 1.743 MiB