Package: MultiBaC Version: 1.20.0 Command: /Library/Frameworks/R.framework/Resources/bin/R CMD INSTALL MultiBaC StartedAt: 2025-11-10 15:20:03 -0500 (Mon, 10 Nov 2025) EndedAt: 2025-11-10 15:20:06 -0500 (Mon, 10 Nov 2025) EllapsedTime: 2.4 seconds RetCode: 0 Status: OK